BEGIN:VCALENDAR
VERSION:2.0
PRODID:-//Timeless Teachings of Advaita Vedanta - ECPv6.15.17//NONSGML v1.0//EN
CALSCALE:GREGORIAN
METHOD:PUBLISH
X-WR-CALNAME:Timeless Teachings of Advaita Vedanta
X-ORIGINAL-URL:https://en.vedantbhaskar.org
X-WR-CALDESC:Events for Timeless Teachings of Advaita Vedanta
REFRESH-INTERVAL;VALUE=DURATION:PT1H
X-Robots-Tag:noindex
X-PUBLISHED-TTL:PT1H
BEGIN:VTIMEZONE
TZID:UTC
BEGIN:STANDARD
TZOFFSETFROM:+0000
TZOFFSETTO:+0000
TZNAME:UTC
DTSTART:20240101T000000
END:STANDARD
END:VTIMEZONE
BEGIN:VEVENT
DTSTART;TZID=UTC:20250817T100000
DTEND;TZID=UTC:20250817T120000
DTSTAMP:20260421T160243
CREATED:20251001T123516Z
LAST-MODIFIED:20251003T072437Z
UID:3801-1755424800-1755432000@en.vedantbhaskar.org
SUMMARY:Sanskar Varg – Inspiring Dialogue with Dr. Nishi Ponkse
DESCRIPTION:The August Sanskar Varg became a memorable celebration for the Vedant Bhaskar family\nfeaturing an inspiring two-hour session by Dr. Ponkshe. Through engaging slides and audio-visuals\, she highlighted the teachings of Samartha Ramdas Swami on strengthening both body and mind with discipline\, healthy habits\, and moral values. Sharing her own journey—from learning to swim at 40 to winning international medals at 55—she credited her success to courage\, persistence\, Sadguru’s blessings\, and family support. Her message to students was clear: faith\, discipline\, and self-confidence lead to victory\, while to parents she emphasized that the home is the first school of values.
URL:https://en.vedantbhaskar.org/event/sanskar-varg-inspiring-dialogue-with-dr-nishi-ponkse/
LOCATION:Location\, San Jose\,\, CA\, NY\, United States
CATEGORIES:New Events
ATTACH;FMTTYPE=image/jpeg:https://en.vedantbhaskar.org/wp-content/uploads/2025/10/IMG20250817092015-scaled.jpg
END:VEVENT
END:VCALENDAR