BEGIN:VCALENDAR
VERSION:2.0
PRODID:-//Timeless Teachings of Advaita Vedanta - ECPv6.15.17//NONSGML v1.0//EN
CALSCALE:GREGORIAN
METHOD:PUBLISH
X-ORIGINAL-URL:https://en.vedantbhaskar.org
X-WR-CALDESC:Events for Timeless Teachings of Advaita Vedanta
REFRESH-INTERVAL;VALUE=DURATION:PT1H
X-Robots-Tag:noindex
X-PUBLISHED-TTL:PT1H
BEGIN:VTIMEZONE
TZID:UTC
BEGIN:STANDARD
TZOFFSETFROM:+0000
TZOFFSETTO:+0000
TZNAME:UTC
DTSTART:20240101T000000
END:STANDARD
END:VTIMEZONE
BEGIN:VEVENT
DTSTART;VALUE=DATE:20251001
DTEND;VALUE=DATE:20251002
DTSTAMP:20260421T121940
CREATED:20250710T051252Z
LAST-MODIFIED:20251001T053521Z
UID:3764-1759276800-1759363199@en.vedantbhaskar.org
SUMMARY:Shri Guru Purnima Grand Celebration – A Divine Heritage of Tradition
DESCRIPTION:On the auspicious occasion of Gurupurnima 2025\,\nThe Shivgad Adhyatma Charitable Trust\, Murgud celebrated with great devotion and joy. The highlight was a rare and unforgettable moment when P. Pu. Dr. Kaka formally announced his spiritual successor\, P. Pu. Shri Mangesh Dada Phadke\, among 13 Acharyas. The ceremony filled the hall with a divine atmosphere\, moving everyone to tears as they witnessed the sacred transfer of spiritual authority—a truly incomparable and blessed experience.
URL:https://en.vedantbhaskar.org/event/shri-guru-purnima-grand-celebration-a-divine-heritage-of-tradition/
LOCATION:Location\, San Jose\,\, CA\, NY\, United States
CATEGORIES:New Events
ATTACH;FMTTYPE=image/jpeg:https://en.vedantbhaskar.org/wp-content/uploads/2025/10/Gurupournima-Murgud-2025.jpg
END:VEVENT
BEGIN:VEVENT
DTSTART;TZID=UTC:20251001T080000
DTEND;TZID=UTC:20251001T170000
DTSTAMP:20260421T121940
CREATED:20251001T124735Z
LAST-MODIFIED:20251001T124735Z
UID:3806-1759305600-1759338000@en.vedantbhaskar.org
SUMMARY:DattaJayanti and forth Quarterly Upasana
DESCRIPTION:Every Friday\,What began in 2011 as individual Shri Guru Charitra Parayan evolved into a collective Datta Jayanti festival from 2012 onward.\nDuring this sacred week\, devotees—including Mangesh Dada—observe the Parayan with strict discipline\, followed by Dada’s evening discourses that share the essence and deeper meanings of the text. The celebration is further enriched with blessings from saints via Zoom\, devotee reflections\, children’s worship\, and soulful kirtans by H.B.P. Sonali Tai Phadke\, making the festival truly divine and memorable.
URL:https://en.vedantbhaskar.org/event/dattajayanti-and-forth-quarterly-upasana/
LOCATION:NY
CATEGORIES:New Events
ATTACH;FMTTYPE=image/jpeg:https://en.vedantbhaskar.org/wp-content/uploads/2025/10/PHOTO-2024-12-02-21-11-42-1.jpg
END:VEVENT
BEGIN:VEVENT
DTSTART;TZID=UTC:20251005T000000
DTEND;TZID=UTC:20251005T235900
DTSTAMP:20260421T121940
CREATED:20251001T124419Z
LAST-MODIFIED:20251003T072700Z
UID:3803-1759622400-1759708740@en.vedantbhaskar.org
SUMMARY:Bala Sanskar Warg (Children’s Moral & Cultural Values class)
DESCRIPTION:With the selfless efforts of Pujya Mangesh Dada’s family\, the Children’s Cultural Class—started in true Silicon Valley spirit from a devotee’s garage—has grown to guide many young minds for over 13 years. \nThe class blends spiritual recitations (Stotras of Adi Shankaracharya\, Bhagavad Gita\, Ramraksha\, Hanuman Stotra) with Surya Namaskar\, yoga\, and teachings of Samarth Ramdas Swami\, while also introducing the scientific perspective on festivals\, respect for gomaata\, traditional attire\, and classic Marathi. With simple\, age-appropriate guidance\, it nurtures not only values but also radiant personalities\, leaving a lasting impact on both children and their parents.
URL:https://en.vedantbhaskar.org/event/bala-sanskar-warg-childrens-moral-cultural-values-class/
LOCATION:Location\, San Jose\,\, CA\, NY\, United States
CATEGORIES:New Events
ATTACH;FMTTYPE=image/jpeg:https://en.vedantbhaskar.org/wp-content/uploads/2025/10/WhatsApp-Image-2025-09-29-at-15.11.59-2.jpeg
END:VEVENT
BEGIN:VEVENT
DTSTART;TZID=UTC:20251010T000000
DTEND;TZID=UTC:20251010T233000
DTSTAMP:20260421T121940
CREATED:20251001T094052Z
LAST-MODIFIED:20251003T072555Z
UID:3773-1760054400-1760139000@en.vedantbhaskar.org
SUMMARY:Sadgranth Vachan (Spiritual Reading)
DESCRIPTION:Every Friday\,\nPujya Shri Mangesh Dada conducts regular and disciplined readings and interpretations of ‘Dnyaneshwari Bhavdarshan’ by Paratpar Guru Pujya Khandarkar Maharaj and ‘Sansarsagaratil Geetadeepstambh” by the Sadguru.
URL:https://en.vedantbhaskar.org/event/sadgranth-vachan-spiritual-reading/
LOCATION:Location\, San Jose\,\, CA\, NY\, United States
CATEGORIES:New Events
ATTACH;FMTTYPE=image/jpeg:https://en.vedantbhaskar.org/wp-content/uploads/2025/10/Sadgranth-Vachan.jpg
END:VEVENT
END:VCALENDAR