BEGIN:VCALENDAR
VERSION:2.0
PRODID:-//Timeless Teachings of Advaita Vedanta - ECPv6.15.17//NONSGML v1.0//EN
CALSCALE:GREGORIAN
METHOD:PUBLISH
X-WR-CALNAME:Timeless Teachings of Advaita Vedanta
X-ORIGINAL-URL:https://en.vedantbhaskar.org
X-WR-CALDESC:Events for Timeless Teachings of Advaita Vedanta
REFRESH-INTERVAL;VALUE=DURATION:PT1H
X-Robots-Tag:noindex
X-PUBLISHED-TTL:PT1H
BEGIN:VTIMEZONE
TZID:UTC
BEGIN:STANDARD
TZOFFSETFROM:+0000
TZOFFSETTO:+0000
TZNAME:UTC
DTSTART:20240101T000000
END:STANDARD
END:VTIMEZONE
BEGIN:VEVENT
DTSTART;TZID=UTC:20250726T130000
DTEND;TZID=UTC:20250726T170000
DTSTAMP:20260421T171410
CREATED:20251001T054226Z
LAST-MODIFIED:20251003T072253Z
UID:3769-1753534800-1753549200@en.vedantbhaskar.org
SUMMARY:Shri Guru Purnima Grand Celebration and Vedant Bhaskar USA Quarterly Upasana
DESCRIPTION:Following the Murgud celebrations\, a special ShriGuru Purnima program was held in California on July 26\, 2025\,\nAt the residence of P. Pu. Mangesh Dada Phadke\, under the guidance of Pujya Mandatai. Combining the Guru Purnima ceremony with the second quarterly worship\, the event—also live-streamed for seekers worldwide—featured lamp lighting\, altar worship\, Naamsmaran\, pratima poojan\, and the traditional Shodashopachar Padya pooja. The sacred rituals\, accompanied by devotional chanting from the Dnyaneshwari\, Dasbodh\, and ShriGuru ParaPuja Stotra\, created a deeply serene and blessed atmosphere for all present and remote participants.
URL:https://en.vedantbhaskar.org/event/shri-guru-purnima-grand-celebration-and-vedant-bhaskar-usa-quarterly-upasana/
LOCATION:Location\, San Jose\,\, CA\, NY\, United States
CATEGORIES:New Events
ATTACH;FMTTYPE=image/jpeg:https://en.vedantbhaskar.org/wp-content/uploads/2019/10/gurupournima-USA-2025.jpg
END:VEVENT
BEGIN:VEVENT
DTSTART;VALUE=DATE:20250727
DTEND;VALUE=DATE:20250729
DTSTAMP:20260421T171410
CREATED:20251001T061429Z
LAST-MODIFIED:20251001T061519Z
UID:3771-1753574400-1753747199@en.vedantbhaskar.org
SUMMARY:The Unity of Science and Ancient Indian Yoga Philosophy – Dr. Chandrasekhar Mayanil's Workshop
DESCRIPTION:On July 27–28\, 2025\, the Vedant Bhaskar Bal Sanskar class hosted a unique two-day workshop led by renowned neuroscientist Dr. Chandrasekhar Mayanil.\nwho beautifully connected modern neuroscience with the ancient wisdom of yoga. Participants learned the proper practice of Surya Namaskar with breath and bandha awareness\, and explored topics such as Salutogenesis and the Neuroscience of Sanskrit Chanting. The children also presented a heartfelt Wax Museum\, vividly portraying saints and great personalities\, which deeply moved Shekhar Dada as he bowed in gratitude to each. The program concluded with certificates and signed copies of Dr. Mayanil’s book Gravity of Gratitude\, making the workshop both memorable and inspiring
URL:https://en.vedantbhaskar.org/event/the-unity-of-science-and-ancient-indian-yoga-philosophy-dr-chandrasekhar-mayanils-workshop/
LOCATION:Location\, San Jose\,\, CA\, NY\, United States
CATEGORIES:New Events
ATTACH;FMTTYPE=image/jpeg:https://en.vedantbhaskar.org/wp-content/uploads/2025/10/PXL_20250802_181914784-scaled.jpg
END:VEVENT
END:VCALENDAR